BEGIN:VCALENDAR
VERSION:2.0
PRODID:SchoolNow
CALSCALE:GREGORIAN
BEGIN:VEVENT
UID:1ae4b8a0-82d3-11f0-8a52-02efef4a7877
DTSTAMP:20250826T231924Z
SUMMARY:Chocolate chip muffins\, links\, applesauce\, milk
URL;VALUE=URI:https://www.ronank12.edu/departments/food-service/calendar/85
 47294/chocolate-chip-muffins-links-applesauce-milk
DTSTART:20250926T140000Z
DTEND:20250926T143000Z
END:VEVENT
END:VCALENDAR
