BEGIN:VCALENDAR
VERSION:2.0
PRODID:SchoolNow
CALSCALE:GREGORIAN
BEGIN:VEVENT
UID:1ae4bec2-82d3-11f0-bf25-02efef4a7877
DTSTAMP:20250826T231924Z
SUMMARY:Corn dog\, smiles\, baby carrots\, applesauce\, cookie\, milk
URL;VALUE=URI:https://www.ronank12.edu/departments/food-service/calendar/85
 47297/corn-dog-smiles-baby-carrots-applesauce-cookie-milk
DTSTART:20250826T163000Z
DTEND:20250826T183000Z
END:VEVENT
END:VCALENDAR
