BEGIN:VCALENDAR
VERSION:2.0
PRODID:SchoolNow
CALSCALE:GREGORIAN
BEGIN:VEVENT
UID:1ae4c0a2-82d3-11f0-a576-02efef4a7877
DTSTAMP:20250826T231924Z
SUMMARY:Pepperoni calzones\, tossed salad\, green beans\, pears\, milk
URL;VALUE=URI:https://www.ronank12.edu/departments/food-service/calendar/85
 47298/pepperoni-calzones-tossed-salad-green-beans-pears-milk
DTSTART:20250827T163000Z
DTEND:20250827T183000Z
END:VEVENT
END:VCALENDAR
