BEGIN:VCALENDAR
VERSION:2.0
PRODID:SchoolNow
CALSCALE:GREGORIAN
BEGIN:VEVENT
UID:1ae4c2aa-82d3-11f0-b0e6-02efef4a7877
DTSTAMP:20250826T231924Z
SUMMARY:Beef & cheese burrito\, refried beans\, salsa\, chips\, mixed fruit
 \, milk
URL;VALUE=URI:https://www.ronank12.edu/departments/food-service/calendar/85
 47299/beef-cheese-burrito-refried-beans-salsa-chips-mixed-fruit-milk
DTSTART:20250828T163000Z
DTEND:20250828T183000Z
END:VEVENT
END:VCALENDAR
