BEGIN:VCALENDAR
VERSION:2.0
PRODID:SchoolNow
CALSCALE:GREGORIAN
BEGIN:VEVENT
UID:1ae4c4bc-82d3-11f0-b3bd-02efef4a7877
DTSTAMP:20250826T231924Z
SUMMARY:P.B. uncrustable\, string cheese\, baby carrots\, fresh broccoli\, 
 applesauce\, milk
URL;VALUE=URI:https://www.ronank12.edu/departments/food-service/calendar/85
 47300/p-b-uncrustable-string-cheese-baby-carrots-fresh-broccoli-applesauce
 -milk
DTSTART:20250829T163000Z
DTEND:20250829T183000Z
END:VEVENT
END:VCALENDAR
