BEGIN:VCALENDAR
VERSION:2.0
PRODID:SchoolNow
CALSCALE:GREGORIAN
BEGIN:VEVENT
UID:1ae4c6a6-82d3-11f0-9b3c-02efef4a7877
DTSTAMP:20250826T231924Z
SUMMARY:Pepperoni rippers\, tossed salad\, baby carrots\, pineapple\, milk
URL;VALUE=URI:https://www.ronank12.edu/departments/food-service/calendar/85
 47301/pepperoni-rippers-tossed-salad-baby-carrots-pineapple-milk
DTSTART:20250902T163000Z
DTEND:20250902T183000Z
END:VEVENT
END:VCALENDAR
