BEGIN:VCALENDAR
VERSION:2.0
PRODID:SchoolNow
CALSCALE:GREGORIAN
BEGIN:VEVENT
UID:1ae4c908-82d3-11f0-aa5a-02efef4a7877
DTSTAMP:20250826T231924Z
SUMMARY:Chicken patty sandwich\, smiles\, lettuce\, peaches\, milk
URL;VALUE=URI:https://www.ronank12.edu/departments/food-service/calendar/85
 47302/chicken-patty-sandwich-smiles-lettuce-peaches-milk
DTSTART:20250903T163000Z
DTEND:20250903T183000Z
END:VEVENT
END:VCALENDAR
