BEGIN:VCALENDAR
VERSION:2.0
PRODID:SchoolNow
CALSCALE:GREGORIAN
BEGIN:VEVENT
UID:1ae4ccdc-82d3-11f0-8883-02efef4a7877
DTSTAMP:20250826T231924Z
SUMMARY:Teriyaki beef dipper\, tater tots\, celery sticks\, mixed fruit\, r
 oll\, milk
URL;VALUE=URI:https://www.ronank12.edu/departments/food-service/calendar/85
 47304/teriyaki-beef-dipper-tater-tots-celery-sticks-mixed-fruit-roll-milk
DTSTART:20250905T163000Z
DTEND:20250905T183000Z
END:VEVENT
END:VCALENDAR
