BEGIN:VCALENDAR
VERSION:2.0
PRODID:SchoolNow
CALSCALE:GREGORIAN
BEGIN:VEVENT
UID:1ae4cf16-82d3-11f0-99fc-02efef4a7877
DTSTAMP:20250826T231924Z
SUMMARY:Meatball sandwich\, french fries\, celery sticks\, peaches\, milk
URL;VALUE=URI:https://www.ronank12.edu/departments/food-service/calendar/85
 47305/meatball-sandwich-french-fries-celery-sticks-peaches-milk
DTSTART:20250908T163000Z
DTEND:20250908T183000Z
END:VEVENT
END:VCALENDAR
