BEGIN:VCALENDAR
VERSION:2.0
PRODID:SchoolNow
CALSCALE:GREGORIAN
BEGIN:VEVENT
UID:1ae4d128-82d3-11f0-be45-02efef4a7877
DTSTAMP:20250826T231924Z
SUMMARY:Hamburger gravy\, mashed potatoes\, pea salad\, peaches\, roll\, mi
 lk
URL;VALUE=URI:https://www.ronank12.edu/departments/food-service/calendar/85
 47306/hamburger-gravy-mashed-potatoes-pea-salad-peaches-roll-milk
DTSTART:20250909T163000Z
DTEND:20250909T183000Z
END:VEVENT
END:VCALENDAR
