BEGIN:VCALENDAR
VERSION:2.0
PRODID:SchoolNow
CALSCALE:GREGORIAN
BEGIN:VEVENT
UID:1ae4d344-82d3-11f0-802b-02efef4a7877
DTSTAMP:20250826T231924Z
SUMMARY:Sloppy joe on a bun\, french fries\, corn\, pears\, milk
URL;VALUE=URI:https://www.ronank12.edu/departments/food-service/calendar/85
 47307/sloppy-joe-on-a-bun-french-fries-corn-pears-milk
DTSTART:20250910T163000Z
DTEND:20250910T183000Z
END:VEVENT
END:VCALENDAR
