BEGIN:VCALENDAR
VERSION:2.0
PRODID:SchoolNow
CALSCALE:GREGORIAN
BEGIN:VEVENT
UID:1ae4d560-82d3-11f0-8a78-02efef4a7877
DTSTAMP:20250826T231924Z
SUMMARY:Beef chili\, crackers\, carrots\, banana\, cinnamon roll\, milk
URL;VALUE=URI:https://www.ronank12.edu/departments/food-service/calendar/85
 47308/beef-chili-crackers-carrots-banana-cinnamon-roll-milk
DTSTART:20250911T163000Z
DTEND:20250911T183000Z
END:VEVENT
END:VCALENDAR
