BEGIN:VCALENDAR
VERSION:2.0
PRODID:SchoolNow
CALSCALE:GREGORIAN
BEGIN:VEVENT
UID:1ae4d74a-82d3-11f0-ab9a-02efef4a7877
DTSTAMP:20250826T231924Z
SUMMARY:Ham & cheese deli\, carrots\, lettuce\, apple wedges\, milk
URL;VALUE=URI:https://www.ronank12.edu/departments/food-service/calendar/85
 47309/ham-cheese-deli-carrots-lettuce-apple-wedges-milk
DTSTART:20250912T163000Z
DTEND:20250912T183000Z
END:VEVENT
END:VCALENDAR
