BEGIN:VCALENDAR
VERSION:2.0
PRODID:SchoolNow
CALSCALE:GREGORIAN
BEGIN:VEVENT
UID:1ae4d93e-82d3-11f0-98f3-02efef4a7877
DTSTAMP:20250826T231924Z
SUMMARY:BBQ pork riblet\, sandwich\, baked beans\, coleslaw\, applesauce\, 
 milk
URL;VALUE=URI:https://www.ronank12.edu/departments/food-service/calendar/85
 47310/bbq-pork-riblet-sandwich-baked-beans-coleslaw-applesauce-milk
DTSTART:20250916T163000Z
DTEND:20250916T183000Z
END:VEVENT
END:VCALENDAR
