BEGIN:VCALENDAR
VERSION:2.0
PRODID:SchoolNow
CALSCALE:GREGORIAN
BEGIN:VEVENT
UID:1ae4db28-82d3-11f0-89fb-02efef4a7877
DTSTAMP:20250826T231924Z
SUMMARY:Teriyaki chicken on rice\, carrots\, broccoli\, mandarin oranges\, 
 milk
URL;VALUE=URI:https://www.ronank12.edu/departments/food-service/calendar/85
 47311/teriyaki-chicken-on-rice-carrots-broccoli-mandarin-oranges-milk
DTSTART:20250917T163000Z
DTEND:20250917T183000Z
END:VEVENT
END:VCALENDAR
