BEGIN:VCALENDAR
VERSION:2.0
PRODID:SchoolNow
CALSCALE:GREGORIAN
BEGIN:VEVENT
UID:1ae4dda8-82d3-11f0-8e74-02efef4a7877
DTSTAMP:20250826T231924Z
SUMMARY:Beef taco on a tortilla\, lettuce\, salsa\, banana\, roll\, milk
URL;VALUE=URI:https://www.ronank12.edu/departments/food-service/calendar/85
 47312/beef-taco-on-a-tortilla-lettuce-salsa-banana-roll-milk
DTSTART:20250918T163000Z
DTEND:20250918T183000Z
END:VEVENT
END:VCALENDAR
