BEGIN:VCALENDAR
VERSION:2.0
PRODID:SchoolNow
CALSCALE:GREGORIAN
BEGIN:VEVENT
UID:1ae4dfa6-82d3-11f0-b5f2-02efef4a7877
DTSTAMP:20250826T231924Z
SUMMARY:Cheese burger\, smiles\, tomato\, pickles\, apple crisp\, milk
URL;VALUE=URI:https://www.ronank12.edu/departments/food-service/calendar/85
 47313/cheese-burger-smiles-tomato-pickles-apple-crisp-milk
DTSTART:20250919T163000Z
DTEND:20250919T183000Z
END:VEVENT
END:VCALENDAR
