BEGIN:VCALENDAR
VERSION:2.0
PRODID:SchoolNow
CALSCALE:GREGORIAN
BEGIN:VEVENT
UID:1ae4e190-82d3-11f0-bc6d-02efef4a7877
DTSTAMP:20250826T231924Z
SUMMARY:Chicken strips\, macaroni & cheese\, carrots\, red pepper\, slices\
 , pears\, milk
URL;VALUE=URI:https://www.ronank12.edu/departments/food-service/calendar/85
 47314/chicken-strips-macaroni-cheese-carrots-red-pepper-slices-pears-milk
DTSTART:20250922T163000Z
DTEND:20250922T183000Z
END:VEVENT
END:VCALENDAR
