BEGIN:VCALENDAR
VERSION:2.0
PRODID:SchoolNow
CALSCALE:GREGORIAN
BEGIN:VEVENT
UID:1ae4e398-82d3-11f0-8b1b-02efef4a7877
DTSTAMP:20250826T231924Z
SUMMARY:Homemade pepperoni pizza\, tossed salad\, carrots\, pineapple\, mil
 k
URL;VALUE=URI:https://www.ronank12.edu/departments/food-service/calendar/85
 47315/homemade-pepperoni-pizza-tossed-salad-carrots-pineapple-milk
DTSTART:20250923T163000Z
DTEND:20250923T183000Z
END:VEVENT
END:VCALENDAR
