BEGIN:VCALENDAR
VERSION:2.0
PRODID:SchoolNow
CALSCALE:GREGORIAN
BEGIN:VEVENT
UID:1ae4e5aa-82d3-11f0-9ba2-02efef4a7877
DTSTAMP:20250826T231924Z
SUMMARY:Turkey & cheese deli\, lettuce tomato\, corn\, apple slices\, milk
URL;VALUE=URI:https://www.ronank12.edu/departments/food-service/calendar/85
 47316/turkey-cheese-deli-lettuce-tomato-corn-apple-slices-milk
DTSTART:20250924T163000Z
DTEND:20250924T183000Z
END:VEVENT
END:VCALENDAR
