BEGIN:VCALENDAR
VERSION:2.0
PRODID:SchoolNow
CALSCALE:GREGORIAN
BEGIN:VEVENT
UID:1ae4e78a-82d3-11f0-9b42-02efef4a7877
DTSTAMP:20250826T231924Z
SUMMARY:Breaded steak\, mashed potatoes\, gravy pea salad\, mixed fruit\, r
 oll\, milk
URL;VALUE=URI:https://www.ronank12.edu/departments/food-service/calendar/85
 47317/breaded-steak-mashed-potatoes-gravy-pea-salad-mixed-fruit-roll-milk
DTSTART:20250925T163000Z
DTEND:20250925T183000Z
END:VEVENT
END:VCALENDAR
