BEGIN:VCALENDAR
VERSION:2.0
PRODID:SchoolNow
CALSCALE:GREGORIAN
BEGIN:VEVENT
UID:1ae4e97e-82d3-11f0-bf3e-02efef4a7877
DTSTAMP:20250826T231924Z
SUMMARY:Hot dog or chili dog\, bun\, french fries\, green beans\, pears\, m
 ilk
URL;VALUE=URI:https://www.ronank12.edu/departments/food-service/calendar/85
 47318/hot-dog-or-chili-dog-bun-french-fries-green-beans-pears-milk
DTSTART:20250926T163000Z
DTEND:20250926T183000Z
END:VEVENT
END:VCALENDAR
