BEGIN:VCALENDAR
VERSION:2.0
PRODID:SchoolNow
CALSCALE:GREGORIAN
BEGIN:VEVENT
UID:1ae4eb86-82d3-11f0-9be8-02efef4a7877
DTSTAMP:20250826T231924Z
SUMMARY:Chicken noodle soup\, breaded cheese sticks\, carrots\, applesauce\
 , milk
URL;VALUE=URI:https://www.ronank12.edu/departments/food-service/calendar/85
 47319/chicken-noodle-soup-breaded-cheese-sticks-carrots-applesauce-milk
DTSTART:20250929T163000Z
DTEND:20250929T183000Z
END:VEVENT
END:VCALENDAR
