BEGIN:VCALENDAR
VERSION:2.0
PRODID:SchoolNow
CALSCALE:GREGORIAN
BEGIN:VEVENT
UID:68a9df0c-9fbb-11f0-a507-0e1d0a794d81
DTSTAMP:20251002T181251Z
SUMMARY:Strawberry Bagel\, Applesauce\, Milk
URL;VALUE=URI:https://www.ronank12.edu/departments/food-service/calendar/86
 87703/strawberry-bagel-applesauce-milk
DTSTART:20251001T140000Z
DTEND:20251001T143000Z
END:VEVENT
END:VCALENDAR
