BEGIN:VCALENDAR
VERSION:2.0
PRODID:SchoolNow
CALSCALE:GREGORIAN
BEGIN:VEVENT
UID:68aa2818-9fbb-11f0-9f04-0e1d0a794d81
DTSTAMP:20251002T181251Z
SUMMARY:Chicken Quesadilla\,  Refried Beans\, Broccoli\,Pears\, Tortilla Ch
 ips\, Milk
URL;VALUE=URI:https://www.ronank12.edu/departments/food-service/calendar/86
 87704/chicken-quesadilla-refried-beans-broccoli-pears-tortilla-chips-milk
DTSTART:20251001T163000Z
DTEND:20251001T183000Z
END:VEVENT
END:VCALENDAR
