BEGIN:VCALENDAR
VERSION:2.0
PRODID:SchoolNow
CALSCALE:GREGORIAN
BEGIN:VEVENT
UID:68aa2d68-9fbb-11f0-9870-0e1d0a794d81
DTSTAMP:20251002T181251Z
SUMMARY:Toast\, Link Sausage\, Juice\, Craisins\, Milk
URL;VALUE=URI:https://www.ronank12.edu/departments/food-service/calendar/86
 87705/toast-link-sausage-juice-craisins-milk
DTSTART:20251002T140000Z
DTEND:20251002T143000Z
END:VEVENT
END:VCALENDAR
