BEGIN:VCALENDAR
VERSION:2.0
PRODID:SchoolNow
CALSCALE:GREGORIAN
BEGIN:VEVENT
UID:68aa2ff2-9fbb-11f0-9576-0e1d0a794d81
DTSTAMP:20251002T181251Z
SUMMARY:Beef Stroganoff\, Tossed Salad\, Red Peppers\, Peaches\, Roll\, Mil
 k
URL;VALUE=URI:https://www.ronank12.edu/departments/food-service/calendar/86
 87706/beef-stroganoff-tossed-salad-red-peppers-peaches-roll-milk
DTSTART:20251002T163000Z
DTEND:20251002T183000Z
END:VEVENT
END:VCALENDAR
