BEGIN:VCALENDAR
VERSION:2.0
PRODID:SchoolNow
CALSCALE:GREGORIAN
BEGIN:VEVENT
UID:68aa3a42-9fbb-11f0-a2f7-0e1d0a794d81
DTSTAMP:20251002T181251Z
SUMMARY:Breakfast Pizza\, Juice\, Craisins\, Milk
URL;VALUE=URI:https://www.ronank12.edu/departments/food-service/calendar/86
 87707/breakfast-pizza-juice-craisins-milk
DTSTART:20251003T140000Z
DTEND:20251003T143000Z
END:VEVENT
END:VCALENDAR
