BEGIN:VCALENDAR
VERSION:2.0
PRODID:SchoolNow
CALSCALE:GREGORIAN
BEGIN:VEVENT
UID:68aa3d30-9fbb-11f0-9c06-0e1d0a794d81
DTSTAMP:20251002T181251Z
SUMMARY:Peanut Butter Uncrustables\, String Cheese\, Carrots\,  Applesauce\
 ,  Milk
URL;VALUE=URI:https://www.ronank12.edu/departments/food-service/calendar/86
 87708/peanut-butter-uncrustables-string-cheese-carrots-applesauce-milk
DTSTART:20251003T163000Z
DTEND:20251003T183000Z
END:VEVENT
END:VCALENDAR
