BEGIN:VCALENDAR
VERSION:2.0
PRODID:SchoolNow
CALSCALE:GREGORIAN
BEGIN:VEVENT
UID:68aa3f92-9fbb-11f0-9b85-0e1d0a794d81
DTSTAMP:20251002T181251Z
SUMMARY:Pancake Sandwich\, Apple Slices\,Milk
URL;VALUE=URI:https://www.ronank12.edu/departments/food-service/calendar/86
 87709/pancake-sandwich-apple-slices-milk
DTSTART:20251006T140000Z
DTEND:20251006T143000Z
END:VEVENT
END:VCALENDAR
