BEGIN:VCALENDAR
VERSION:2.0
PRODID:SchoolNow
CALSCALE:GREGORIAN
BEGIN:VEVENT
UID:68aa41a4-9fbb-11f0-addb-0e1d0a794d81
DTSTAMP:20251002T181251Z
SUMMARY:Pulled Pork Sandwich\, French Fries\, Baby Carrots\, Pears\, Milk
URL;VALUE=URI:https://www.ronank12.edu/departments/food-service/calendar/86
 87710/pulled-pork-sandwich-french-fries-baby-carrots-pears-milk
DTSTART:20251006T163000Z
DTEND:20251006T183000Z
END:VEVENT
END:VCALENDAR
