BEGIN:VCALENDAR
VERSION:2.0
PRODID:SchoolNow
CALSCALE:GREGORIAN
BEGIN:VEVENT
UID:68aa43a2-9fbb-11f0-9833-0e1d0a794d81
DTSTAMP:20251002T181251Z
SUMMARY:Biscuits and Sausage Gravy\, Peaches\, Milk
URL;VALUE=URI:https://www.ronank12.edu/departments/food-service/calendar/86
 87711/biscuits-and-sausage-gravy-peaches-milk
DTSTART:20251007T140000Z
DTEND:20251007T143000Z
END:VEVENT
END:VCALENDAR
