BEGIN:VCALENDAR
VERSION:2.0
PRODID:SchoolNow
CALSCALE:GREGORIAN
BEGIN:VEVENT
UID:68aa45be-9fbb-11f0-9e7e-0e1d0a794d81
DTSTAMP:20251002T181251Z
SUMMARY:Burrito\,Refried Beans\, Salsa\, Apple Slices\, Chips\, Milk
URL;VALUE=URI:https://www.ronank12.edu/departments/food-service/calendar/86
 87712/burrito-refried-beans-salsa-apple-slices-chips-milk
DTSTART:20251007T163000Z
DTEND:20251007T183000Z
END:VEVENT
END:VCALENDAR
