BEGIN:VCALENDAR
VERSION:2.0
PRODID:SchoolNow
CALSCALE:GREGORIAN
BEGIN:VEVENT
UID:68aa47da-9fbb-11f0-b0bd-0e1d0a794d81
DTSTAMP:20251002T181251Z
SUMMARY:Cheese Omelet\,Toast\, Juice\, Craisins\, Milk
URL;VALUE=URI:https://www.ronank12.edu/departments/food-service/calendar/86
 87713/cheese-omelet-toast-juice-craisins-milk
DTSTART:20251008T140000Z
DTEND:20251008T143000Z
END:VEVENT
END:VCALENDAR
