BEGIN:VCALENDAR
VERSION:2.0
PRODID:SchoolNow
CALSCALE:GREGORIAN
BEGIN:VEVENT
UID:68aa49d8-9fbb-11f0-b743-0e1d0a794d81
DTSTAMP:20251002T181251Z
SUMMARY:Potato Soup\, Cheesy Bread Bites\, Broccoli\, Applesauce\, Milk
URL;VALUE=URI:https://www.ronank12.edu/departments/food-service/calendar/86
 87714/potato-soup-cheesy-bread-bites-broccoli-applesauce-milk
DTSTART:20251008T163000Z
DTEND:20251008T183000Z
END:VEVENT
END:VCALENDAR
