BEGIN:VCALENDAR
VERSION:2.0
PRODID:SchoolNow
CALSCALE:GREGORIAN
BEGIN:VEVENT
UID:68aa4e9c-9fbb-11f0-b69a-0e1d0a794d81
DTSTAMP:20251002T181251Z
SUMMARY:Spaghetti\, Tossed Salad\, Peaches Garlic Roll\, Milk
URL;VALUE=URI:https://www.ronank12.edu/departments/food-service/calendar/86
 87716/spaghetti-tossed-salad-peaches-garlic-roll-milk
DTSTART:20251009T163000Z
DTEND:20251009T183000Z
END:VEVENT
END:VCALENDAR
