BEGIN:VCALENDAR
VERSION:2.0
PRODID:SchoolNow
CALSCALE:GREGORIAN
BEGIN:VEVENT
UID:68aa5090-9fbb-11f0-9bee-0e1d0a794d81
DTSTAMP:20251002T181251Z
SUMMARY:Waffles\, Applesauce\, Milk
URL;VALUE=URI:https://www.ronank12.edu/departments/food-service/calendar/86
 87717/waffles-applesauce-milk
DTSTART:20251010T140000Z
DTEND:20251010T143000Z
END:VEVENT
END:VCALENDAR
