BEGIN:VCALENDAR
VERSION:2.0
PRODID:SchoolNow
CALSCALE:GREGORIAN
BEGIN:VEVENT
UID:68aa52f2-9fbb-11f0-9e47-0e1d0a794d81
DTSTAMP:20251002T181251Z
SUMMARY:Pepperoni Ripper\, Green Beans\, Pea Salad\, Pineapple\, Milk
URL;VALUE=URI:https://www.ronank12.edu/departments/food-service/calendar/86
 87718/pepperoni-ripper-green-beans-pea-salad-pineapple-milk
DTSTART:20251010T163000Z
DTEND:20251010T183000Z
END:VEVENT
END:VCALENDAR
