BEGIN:VCALENDAR
VERSION:2.0
PRODID:SchoolNow
CALSCALE:GREGORIAN
BEGIN:VEVENT
UID:68aa5716-9fbb-11f0-881c-0e1d0a794d81
DTSTAMP:20251002T181251Z
SUMMARY:Ham and Cheese Deli\, Tomato\, Lettuce\, Corn\, Applesauce\, Milk
URL;VALUE=URI:https://www.ronank12.edu/departments/food-service/calendar/86
 87720/ham-and-cheese-deli-tomato-lettuce-corn-applesauce-milk
DTSTART:20251013T163000Z
DTEND:20251013T183000Z
END:VEVENT
END:VCALENDAR
