BEGIN:VCALENDAR
VERSION:2.0
PRODID:SchoolNow
CALSCALE:GREGORIAN
BEGIN:VEVENT
UID:68aa5928-9fbb-11f0-9547-0e1d0a794d81
DTSTAMP:20251002T181251Z
SUMMARY:French Toast\, Peaches\, Milk
URL;VALUE=URI:https://www.ronank12.edu/departments/food-service/calendar/86
 87721/french-toast-peaches-milk
DTSTART:20251014T140000Z
DTEND:20251014T143000Z
END:VEVENT
END:VCALENDAR
