BEGIN:VCALENDAR
VERSION:2.0
PRODID:SchoolNow
CALSCALE:GREGORIAN
BEGIN:VEVENT
UID:68aa5b1c-9fbb-11f0-af3b-0e1d0a794d81
DTSTAMP:20251002T181251Z
SUMMARY:Open Faced Cheese Sand\, Cream of Tomato Soup\, Broccoli\, Pears\, 
 Milk
URL;VALUE=URI:https://www.ronank12.edu/departments/food-service/calendar/86
 87722/open-faced-cheese-sand-cream-of-tomato-soup-broccoli-pears-milk
DTSTART:20251014T163000Z
DTEND:20251014T183000Z
END:VEVENT
END:VCALENDAR
