BEGIN:VCALENDAR
VERSION:2.0
PRODID:SchoolNow
CALSCALE:GREGORIAN
BEGIN:VEVENT
UID:68aa5d10-9fbb-11f0-84bc-0e1d0a794d81
DTSTAMP:20251002T181251Z
SUMMARY:Strawberry Bagel\, Apple Slices\, Milk
URL;VALUE=URI:https://www.ronank12.edu/departments/food-service/calendar/86
 87723/strawberry-bagel-apple-slices-milk
DTSTART:20251015T140000Z
DTEND:20251015T143000Z
END:VEVENT
END:VCALENDAR
