BEGIN:VCALENDAR
VERSION:2.0
PRODID:SchoolNow
CALSCALE:GREGORIAN
BEGIN:VEVENT
UID:68aa5f04-9fbb-11f0-b623-0e1d0a794d81
DTSTAMP:20251002T181251Z
SUMMARY:Elem/P.B.Sand   MS/HS Meatball San\, Baked Beans\, Carrots\, Strawb
 erry Cup\, Milk
URL;VALUE=URI:https://www.ronank12.edu/departments/food-service/calendar/86
 87724/elem-p-b-sand-ms-hs-meatball-san-baked-beans-carrots-strawberry-cup-
 milk
DTSTART:20251015T163000Z
DTEND:20251015T183000Z
END:VEVENT
END:VCALENDAR
