BEGIN:VCALENDAR
VERSION:2.0
PRODID:SchoolNow
CALSCALE:GREGORIAN
BEGIN:VEVENT
UID:68aa60ee-9fbb-11f0-b237-0e1d0a794d81
DTSTAMP:20251002T181251Z
SUMMARY:Cold Cereal\, Fruit and Grain Bar\, Juice\, Craisins\, Milk
URL;VALUE=URI:https://www.ronank12.edu/departments/food-service/calendar/86
 87725/cold-cereal-fruit-and-grain-bar-juice-craisins-milk
DTSTART:20251020T140000Z
DTEND:20251020T143000Z
END:VEVENT
END:VCALENDAR
