BEGIN:VCALENDAR
VERSION:2.0
PRODID:SchoolNow
CALSCALE:GREGORIAN
BEGIN:VEVENT
UID:68aa6378-9fbb-11f0-bdc9-0e1d0a794d81
DTSTAMP:20251002T181251Z
SUMMARY:Beef A Roni Soup\, String Cheese\, Celery\, Applesauce\, Roll\, Mil
 k
URL;VALUE=URI:https://www.ronank12.edu/departments/food-service/calendar/86
 87726/beef-a-roni-soup-string-cheese-celery-applesauce-roll-milk
DTSTART:20251020T163000Z
DTEND:20251020T183000Z
END:VEVENT
END:VCALENDAR
