BEGIN:VCALENDAR
VERSION:2.0
PRODID:SchoolNow
CALSCALE:GREGORIAN
BEGIN:VEVENT
UID:68aa6576-9fbb-11f0-a2d2-0e1d0a794d81
DTSTAMP:20251002T181251Z
SUMMARY:Biscuits and Gravy\, Juice\, Raisins\, Milk
URL;VALUE=URI:https://www.ronank12.edu/departments/food-service/calendar/86
 87727/biscuits-and-gravy-juice-raisins-milk
DTSTART:20251021T140000Z
DTEND:20251021T143000Z
END:VEVENT
END:VCALENDAR
