BEGIN:VCALENDAR
VERSION:2.0
PRODID:SchoolNow
CALSCALE:GREGORIAN
BEGIN:VEVENT
UID:68aa685a-9fbb-11f0-a47d-0e1d0a794d81
DTSTAMP:20251002T181251Z
SUMMARY:Orange Chicken\, Rice\, Carrots\, Broccoli\, Pears\, Milk
URL;VALUE=URI:https://www.ronank12.edu/departments/food-service/calendar/86
 87728/orange-chicken-rice-carrots-broccoli-pears-milk
DTSTART:20251021T163000Z
DTEND:20251021T183000Z
END:VEVENT
END:VCALENDAR
