BEGIN:VCALENDAR
VERSION:2.0
PRODID:SchoolNow
CALSCALE:GREGORIAN
BEGIN:VEVENT
UID:68aa6a76-9fbb-11f0-85b1-0e1d0a794d81
DTSTAMP:20251002T181251Z
SUMMARY:Cheese Omelet\,Toast\, Pears\, Milk
URL;VALUE=URI:https://www.ronank12.edu/departments/food-service/calendar/86
 87729/cheese-omelet-toast-pears-milk
DTSTART:20251022T140000Z
DTEND:20251022T143000Z
END:VEVENT
END:VCALENDAR
