BEGIN:VCALENDAR
VERSION:2.0
PRODID:SchoolNow
CALSCALE:GREGORIAN
BEGIN:VEVENT
UID:68aa6d32-9fbb-11f0-9cdf-0e1d0a794d81
DTSTAMP:20251002T181251Z
SUMMARY:Cheese Burger\, French Fries\, Tomato Slices\, Pickles\, Blueberry 
 Crisp\, Milk
URL;VALUE=URI:https://www.ronank12.edu/departments/food-service/calendar/86
 87730/cheese-burger-french-fries-tomato-slices-pickles-blueberry-crisp-mil
 k
DTSTART:20251022T163000Z
DTEND:20251022T183000Z
END:VEVENT
END:VCALENDAR
