BEGIN:VCALENDAR
VERSION:2.0
PRODID:SchoolNow
CALSCALE:GREGORIAN
BEGIN:VEVENT
UID:68aa716a-9fbb-11f0-8e8d-0e1d0a794d81
DTSTAMP:20251002T181251Z
SUMMARY:Super Nachos\, Tossed Salad\, Salsa\, Banana\, Milk
URL;VALUE=URI:https://www.ronank12.edu/departments/food-service/calendar/86
 87732/super-nachos-tossed-salad-salsa-banana-milk
DTSTART:20251023T163000Z
DTEND:20251023T183000Z
END:VEVENT
END:VCALENDAR
